BEGIN:VCALENDAR
VERSION:2.0
PRODID:icalendar-ruby
CALSCALE:GREGORIAN
METHOD:PUBLISH
BEGIN:VEVENT
DTSTAMP:20260424T123038Z
UID:191-1016999@gracelutheran1.org
DTSTART:20260827T000000Z
DTEND:20260827T010000Z
CLASS:PUBLIC
CREATED:20260424T055554
DESCRIPTION:All high schoolers are welcome! For more information\, or to RS
 VP please contact youth@gracelutheran1.org
LAST-MODIFIED:20260424T055554
LOCATION:
SUMMARY:High School Youth Meeting
URL;VALUE=URI:https://gracelutheran1.org/events/high-school-youth-meeting/2
 026-08-26
END:VEVENT
END:VCALENDAR
