BEGIN:VCALENDAR
VERSION:2.0
PRODID:icalendar-ruby
CALSCALE:GREGORIAN
METHOD:PUBLISH
BEGIN:VEVENT
DTSTAMP:20260419T191521Z
UID:191-999820@gracelutheran1.org
DTSTART:20260618T000000Z
DTEND:20260618T010000Z
CLASS:PUBLIC
CREATED:20260419T133535
DESCRIPTION:All high schoolers are welcome! For more information\, or to RS
 VP please contact youth@gracelutheran1.org
LAST-MODIFIED:20260419T133535
LOCATION:
SUMMARY:High School Youth Meeting
URL;VALUE=URI:https://gracelutheran1.org/events/high-school-youth-meeting/2
 026-06-17
END:VEVENT
END:VCALENDAR
